BEGIN:VCALENDAR
VERSION:2.0
PRODID:Events Booking
BEGIN:VEVENT
UID:69e6956d72c32
SUMMARY:ICF Accredited Life Transformation Power Coach - For PCC 125 hours 
 Level 2 Sep 2027
DESCRIPTION:
DTSTART:20270906T153000Z
DTEND:20271126T182500Z
DTSTAMP:20260420T210653Z
ORGANIZER;CN=Anil Dagia:MAILTO:info@anildagia.com
END:VEVENT
END:VCALENDAR