BEGIN:VCALENDAR
VERSION:2.0
PRODID:Events Booking
BEGIN:VEVENT
UID:69e694c1a8467
SUMMARY:ICF Accredited Life Transformation Coach - For ACC 75 hours Level 1
  Jan 2027
DESCRIPTION:
DTSTART:20270111T153000Z
DTEND:20270305T182500Z
DTSTAMP:20260420T210401Z
ORGANIZER;CN=Anil Dagia:MAILTO:info@anildagia.com
END:VEVENT
END:VCALENDAR