BEGIN:VCALENDAR
VERSION:2.0
PRODID:Events Booking
BEGIN:VEVENT
UID:69e69464119ec
SUMMARY:Anil Dagia's Business Mastery - Jul 2026
DESCRIPTION:
DTSTART:20260711T133000Z
DTEND:20260829T143000Z
DTSTAMP:20260420T210228Z
ORGANIZER;CN=Anil Dagia:MAILTO:info@anildagia.com
END:VEVENT
END:VCALENDAR